BEGIN:VCALENDAR
VERSION:2.0
PRODID:-//Disco Dayze - ECPv6.15.20//NONSGML v1.0//EN
CALSCALE:GREGORIAN
METHOD:PUBLISH
X-WR-CALNAME:Disco Dayze
X-ORIGINAL-URL:https://discodayze.co.uk
X-WR-CALDESC:Events for Disco Dayze
REFRESH-INTERVAL;VALUE=DURATION:PT1H
X-Robots-Tag:noindex
X-PUBLISHED-TTL:PT1H
BEGIN:VTIMEZONE
TZID:Europe/London
BEGIN:DAYLIGHT
TZOFFSETFROM:+0000
TZOFFSETTO:+0100
TZNAME:BST
DTSTART:20250330T010000
END:DAYLIGHT
BEGIN:STANDARD
TZOFFSETFROM:+0100
TZOFFSETTO:+0000
TZNAME:GMT
DTSTART:20251026T010000
END:STANDARD
BEGIN:DAYLIGHT
TZOFFSETFROM:+0000
TZOFFSETTO:+0100
TZNAME:BST
DTSTART:20260329T010000
END:DAYLIGHT
BEGIN:STANDARD
TZOFFSETFROM:+0100
TZOFFSETTO:+0000
TZNAME:GMT
DTSTART:20261025T010000
END:STANDARD
BEGIN:DAYLIGHT
TZOFFSETFROM:+0000
TZOFFSETTO:+0100
TZNAME:BST
DTSTART:20270328T010000
END:DAYLIGHT
BEGIN:STANDARD
TZOFFSETFROM:+0100
TZOFFSETTO:+0000
TZNAME:GMT
DTSTART:20271031T010000
END:STANDARD
END:VTIMEZONE
BEGIN:VEVENT
DTSTART;TZID=Europe/London:20260411T140000
DTEND;TZID=Europe/London:20260411T180000
DTSTAMP:20260421T150135
CREATED:20251126T002419Z
LAST-MODIFIED:20251126T002419Z
UID:10000044-1775916000-1775930400@discodayze.co.uk
SUMMARY:Disco Dayze – Harrogate @ Montey’s
DESCRIPTION:Are you ready to party like the good old dayze?\nTHE UK’S ULTIMATE DAYTIME DISCO IS AT MONTEY’S\, HARROGATE \n📆 Saturday 11th April 2026\n⏰ 2:00 PM – 6:00 PM\n🎟️ Tickets from £6 + booking fee\n📍 Location: Montey’s\, Harrogate (HG1 2RB) \n💃🕺 Party like you used to—then be home in time for Saturday night telly! \nAbout the Event \nHarrogate’s original and best DAYTIME DISCO is back! \nWhether you’re reliving your clubbing heyday or just love a good boogie without the 2AM regret\, Disco Dayze brings the feel-good vibes\, legendary tunes\, and cheeky cocktails—all before sunset. \nWhat to Expect:\n🎉 The ultimate Saturday afternoon out—fun\, friendly\, and fabulously nostalgic\n🎧 DJ Trev spinning non-stop floor fillers from the 70s\, 80s\, 90s & 00s\n🩷 Free glow stick with every ticket (obviously)\n🍹 Retro cocktails\, cheeky shots & all your favourite drinks\n⭐️ VIP booth party packages—ideal for birthdays\, hens & glam squads\n💃 Good tunes\, good times\, no hangover required \n🎟️ Ticket Options\n🎉 Glow & Go – £6 + booking fee\nJust the essentials—entry and a glow stick. Arrive\, shine\, dance. \n🍹 Sip & Shimmy – £12.50 + booking fee (BEST VALUE‼️)\nEntry + a drink from the Disco Dayze menu* + glow stick.\nYour cocktail and dancefloor moment awaits.\n*Excludes bottle of Prosecco \n⭐️ The Full Fabulous (VIP Booth) – £185 + booking fee\nPrivate booth for 8 guests + 2 bottles of premium prosecco + party favours & balloons \nBring your party people and live your best VIP life—perfect for celebrations. \nBUY TICKETS
URL:https://discodayze.co.uk/event/disco-dayze-harrogate-monteys-2/
LOCATION:Montey’s\, 3 The Ginnel\, Harrogate\, HG1 2RB\, United Kingdom
CATEGORIES:Harrogate
ORGANIZER;CN="Disco Dayze":MAILTO:info@discodayze.co.uk
END:VEVENT
END:VCALENDAR