BEGIN:VCALENDAR
VERSION:2.0
PRODID:-//Disco Dayze - ECPv6.15.20//NONSGML v1.0//EN
CALSCALE:GREGORIAN
METHOD:PUBLISH
X-WR-CALNAME:Disco Dayze
X-ORIGINAL-URL:https://discodayze.co.uk
X-WR-CALDESC:Events for Disco Dayze
REFRESH-INTERVAL;VALUE=DURATION:PT1H
X-Robots-Tag:noindex
X-PUBLISHED-TTL:PT1H
BEGIN:VTIMEZONE
TZID:Europe/London
BEGIN:DAYLIGHT
TZOFFSETFROM:+0000
TZOFFSETTO:+0100
TZNAME:BST
DTSTART:20250330T010000
END:DAYLIGHT
BEGIN:STANDARD
TZOFFSETFROM:+0100
TZOFFSETTO:+0000
TZNAME:GMT
DTSTART:20251026T010000
END:STANDARD
BEGIN:DAYLIGHT
TZOFFSETFROM:+0000
TZOFFSETTO:+0100
TZNAME:BST
DTSTART:20260329T010000
END:DAYLIGHT
BEGIN:STANDARD
TZOFFSETFROM:+0100
TZOFFSETTO:+0000
TZNAME:GMT
DTSTART:20261025T010000
END:STANDARD
BEGIN:DAYLIGHT
TZOFFSETFROM:+0000
TZOFFSETTO:+0100
TZNAME:BST
DTSTART:20270328T010000
END:DAYLIGHT
BEGIN:STANDARD
TZOFFSETFROM:+0100
TZOFFSETTO:+0000
TZNAME:GMT
DTSTART:20271031T010000
END:STANDARD
END:VTIMEZONE
BEGIN:VEVENT
DTSTART;TZID=Europe/London:20261031T140000
DTEND;TZID=Europe/London:20261031T180000
DTSTAMP:20260422T032349
CREATED:20260315T211204Z
LAST-MODIFIED:20260315T211547Z
UID:10000050-1793455200-1793469600@discodayze.co.uk
SUMMARY:Disco Dayze’s Boogie & The Beast @ Montey’s
DESCRIPTION:🦇🪩 BOOGIE & THE BEAST\nHarrogate’s Fang-Tastic Halloween Daytime Disco \n📆 Saturday 31st October 2026\n⏰ 2:00 PM – 6:00 PM\n🎟️ Tickets from £12.50 + booking fee\n📍 Location: Montey’s\, Harrogate (HG1 2RB) \n😈 All the fright. None of the late night. \nAbout the Event \nIt’s back.  The Halloween daytime disco that sold out and shook the dancefloor last year. \nBoogie & The Beast returns — darker\, louder and even more gloriously chaotic.\nFor one afternoon only\, Montey’s transforms into Harrogate’s ultimate Halloween dancefloor.\nThis isn’t subtle décor and background music.\nThis is full devilish chaos — Disco Dayze style. \nWhat to Expect:\n \n🦇 A full Halloween takeover at Montey’s\n🎧 DJ Trev dropping monster bangers from the 70s\, 80s\, 90s & 00s\n👻 Big-screen Halloween flashbacks — cult movies\, spooky music videos & iconic TV moments\n😈 Free devil horns with every ticket\n🍸 Creepy cocktails & zombie shots\n🎃 Costume chaos with a prize for Best Dressed Disco Devil\n⭐ VIP booth packages for the ultimate Halloween crew\n💃 Big energy. No 2AM regret. \n🎟️ Ticket Options\n \n😈 Sip & Shimmy – £12.50 + booking fee\nEntry + a drink from the exclusive Boogie & The Beast menu* + devil horns.\nArrive spooky. Leave legendary.\n*Excludes bottle of Prosecco. \n🦇 The Full Fabulous (VIP Booth) – £200 + booking fee\nPrivate booth for up to 8 guests\n2 bottles of premium prosecco\nHalloween party favours & balloons\nYour own VIP lair on the dancefloor.\nPerfect for birthdays\, Halloween crews & glam ghouls. \n‼️A Little Warning…\nBoogie & The Beast reached full capacity weeks in advance last year.\nIf you were there\, you already know.\nEarly booking is strongly recommended. \nBuy Tickets
URL:https://discodayze.co.uk/event/disco-dayzes-boogie-the-beast-monteys/
LOCATION:Montey’s\, 3 The Ginnel\, Harrogate\, HG1 2RB\, United Kingdom
CATEGORIES:Harrogate
ATTACH;FMTTYPE=image/jpeg:https://discodayze.co.uk/wp-content/uploads/2026/03/OCT_1080x1350-boogie-and-beast-FINAL-scaled.jpg
ORGANIZER;CN="Disco Dayze":MAILTO:info@discodayze.co.uk
END:VEVENT
BEGIN:VEVENT
DTSTART;TZID=Europe/London:20261212T140000
DTEND;TZID=Europe/London:20261212T180000
DTSTAMP:20260422T032349
CREATED:20260315T212059Z
LAST-MODIFIED:20260315T212059Z
UID:10000051-1797084000-1797098400@discodayze.co.uk
SUMMARY:Disco Dayze’s Jingle Bell Boogie @ Montey’s
DESCRIPTION:🎄🪩 JINGLE BELL BOOGIE\nHarrogate’s Ultimate Daytime Chrimbo Disco \n📆 Saturday 12th December 2026\n⏰ 2:00 PM – 6:00 PM\n🎟️ Tickets from £12.50 + booking fee\n📍 Location: Montey’s\, Harrogate (HG1 2RB) \n💃 Christmas party like you used to — and be home in time for mince pies! \nAbout the Event \nThis is it.  The Christmas party that’s become a Disco Dayze legend.\nAfter last year’s full-capacity\, dancefloor-from-start-to-finish madness\, Jingle Bell Boogie returns — big festive energy\, big anthems\, big sparkle.\nFor one afternoon only\, Montey’s transforms into Harrogate’s ultimate Chrimbo dancefloor.\nThis isn’t background music and polite Prosecco.\nThis is your official Christmas blowout — done properly. \nWhat to Expect:\n \n🎄 A full festive glow-up at Montey’s\n🎧 DJ Trev spinning 70s\, 80s\, 90s & 00s floor fillers — plus iconic Christmas anthems\n🎬 Big-screen Christmas flashbacks — festive movies\, legendary Christmas TV specials & classic music videos\n🪩 Free glow stick with every ticket\n🍸 Exclusive Christmas cocktails & naughty seasonal shots\n✨ Festive party favours to keep the sparkle levels high\n🎅 Sparkles\, sequins & Santa hats strongly encouraged\n⭐ VIP booth packages for the ultimate Christmas celebration\n💃 Big energy. Zero 2AM regret. \n🎟️ Ticket Options\n \n🍸 Sip & Shimmy – £12.50 + booking fee\nEntry + a drink from the exclusive Jingle Bell Boogie menu* + glow stick.\nArrive festive. Leave legendary.\n*Excludes bottle of Prosecco. \n⭐ The Full Fabulous (VIP Booth) – £200 + booking fee\nPrivate booth for up to 8 guests\n2 bottles of premium prosecco\nFestive party favours & balloons\nYour own VIP Christmas corner of the dancefloor.\nPerfect for Christmas parties\, birthdays & glam squads.\nBring your party people and live your best VIP life. Ideal for any type of celebration! \n‼️ A Little Heads Up…\nJingle Bell Boogie reached full capacity weeks in advance last year.\nIf you know\, you know.\nEarly booking is strongly recommended. \nBuy Tickets
URL:https://discodayze.co.uk/event/disco-dayzes-jingle-bell-boogie-monteys/
LOCATION:Montey’s\, 3 The Ginnel\, Harrogate\, HG1 2RB\, United Kingdom
CATEGORIES:Harrogate
ATTACH;FMTTYPE=image/jpeg:https://discodayze.co.uk/wp-content/uploads/2026/03/DEC_1080x1350-jingle-bell-FINAL-scaled.jpg
ORGANIZER;CN="Disco Dayze":MAILTO:info@discodayze.co.uk
END:VEVENT
END:VCALENDAR